{"text_format":"1","workbook":"xlsx","n_sheets":3,"sheets":["Hoja2","CONCILIACIONES","LDF AIDOP"],"not_rendered":{"charts":0,"images":3,"macros":1,"external_links":2,"defined_names":14,"comments":0,"pivot_tables":0},"unopened":[],"bounds":{"document_bytes":16777216,"sheet_cells":100000,"rows_first":2000,"rows_last":500,"rows_between":2000,"halvings":0,"cell_chars":16384,"cell_head_chars":4096},"cells_cut":0,"cells_raw":0,"read":"whole","date_system":"1900"}

{"sheet":"Hoja2","index":0,"n_rows":34,"n_cols":3,"rows_kept":34,"cut":false,"hidden":true,"merged":[]}
["MESES","DIAS","AÑO"]
["Enero",1,2018]
["Febrero",31,2019]
["Marzo",null,2020]
["Abril",null,2021]
["Mayo",null,2022]
["Junio",null,2023]
["Julio",null,2024]
["Agosto",null,2025]
["Septiembre",null,2026]
["Octubre",null,2027]
["Noviembre",null,2028]
["Diciembre",null,2029]
[null,null,2030]
[null,null,2031]
[null,null,2032]
[null,null,2033]
[null,null,2034]
[null,null,2035]
[null,null,2036]
[null,null,2037]
[null,null,2038]
[null,null,2039]
[null,null,2040]
[null,null,2041]
[null,null,2042]
[null,null,2043]
[null,null,2044]
[null,null,2045]
[null,null,2046]
[null,null,2047]
[null,null,2048]
[null,null,2049]
[null,null,2050]

{"sheet":"CONCILIACIONES","index":1,"n_rows":72,"n_cols":12,"rows_kept":72,"cut":false,"hidden":true,"merged":[[1,1,1,4],[2,1,2,4],[3,1,3,4],[6,1,6,2],[25,1,25,2]]}
[null,null,null,null,"ANEXO 5"]
[null,"H. AYUNTAMIENTO DEL MUNICIPIO DE VERACRUZ, VERACRUZ"]
[null,"CONCILIACIONES CONTABLES - PRESUPUESTALES"]
[null,"CORRESPONDIENTE DEL 01 DE FEBRERO AL 29 DE FEBRERO 2020"]
[]
[null,"Conciliación entre los Ingresos Presupuestarios y Contables"]
[null,"Concepto",null,null,"$"]
[null,"1. Ingresos Presupuestarios",null,null,{"$f":"+#REF!","v":{"$error":"#REF!"}}]
[]
[null,"2. Más ingresos contables no presupuestarios",null,null,{"$f":"SUM(D11:D15)","v":{"$error":"#REF!"}}]
["4.3.2",null,"Incremento por variación de inventarios",0]
["4.3.3",null,"Disminución del exceso de estimaciones por pérdida o deterioro u obsolescencia",0]
["4.3.4",null,"Disminución del exceso de provisiones",0]
["4.3.9",null,"Otros ingresos y beneficios varios",0]
[null,null,"Otros ingresos contables no presupuestarios",{"$f":"-#REF!","v":{"$error":"#REF!"}}]
[]
[null,"3. Menos ingresos presupuestarios no contables",null,null,{"$f":"SUM(D18:D21)","v":{"$error":"#REF!"}}]
[null,null,"Productos de capital",0]
[null,null,"Aprovechamientos capital",{"$f":"+K34+K35","v":99737778.039999962}]
[null,null,"Ingresos derivados de financiamientos",{"$f":"+#REF!","v":{"$error":"#REF!"}}]
[null,null,"Otros Ingresos presupuestarios no contables",{"$f":"+K36","v":130000000}]
[null,null,null,null,null,null,"COMPROBACIÓN","DIFERENCIA"]
[null,"4. Ingresos Contables (4 = 1 + 2 - 3)",null,null,{"$f":"+E8+E10-E17","v":{"$error":"#REF!"}},null,421499159.88000005,{"$f":"+E23-G23","v":{"$error":"#REF!"}}]
[]
[null,"Conciliación entre los Egresos Presupuestarios y Contables"]
[null,"Concepto",null,null,"$"]
[null,"1. Total de egresos (presupuestarios)",null,null,{"$f":"+#REF!","v":{"$error":"#REF!"}}]
[]
[null,"2. Menos egresos presupuestarios no contables",null,null,{"$f":"SUM(D30:D59)","v":{"$error":"#REF!"}}]
["1.2.4.1",null,"Mobiliario y equipo de administración",{"$f":"+#REF!","v":{"$error":"#REF!"}}]
["1.2.4.2",null,"Mobiliario y equipo educacional y recreativo",{"$f":"+#REF!","v":{"$error":"#REF!"}}]
["1.2.4.3",null,"Equipo e instrumental médico y de laboratorio",{"$f":"+#REF!","v":{"$error":"#REF!"}}]
["1.2.4.4",null,"Vehículos y equipo de transporte",{"$f":"+#REF!","v":{"$error":"#REF!"}},null,null,"Activos Intangibles",null,"INTEGRACION DEL DEVENGO PRESUPUESTAL EN ENERO 2020"]
["1.2.4.5",null,"Equipo de defensa y seguridad",{"$f":"+#REF!","v":{"$error":"#REF!"}},null,null,null,null,"Remanentes Fiscales",null,99737778.039999962,"APROVECHAMIENTOS"]
["1.2.4.6",null,"Maquinaria, otros equipos y herramientas",{"$f":"+#REF!","v":{"$error":"#REF!"}},null,null,null,null,"Fideicomiso centro Histórico",null,0,"APROVECHAMIENTOS"]
["1.2.4.7",null,"Colecciones, Obras de Arte y Objetos Valiosos",{"$f":"+#REF!","v":{"$error":"#REF!"}},null,null,null,null,"Remanente de Participaciones",null,130000000,"PARTICIPACIONES"]
["1.2.4.8",null,"Activos biológicos",{"$f":"+#REF!","v":{"$error":"#REF!"}},null,null,null,null,"RECURSO ZOFEMAT (REMANENTE)",null,0,"PARTICIPACIONES (CONVENIOS)"]
[null,null,"Activos Intangibles",{"$f":"+#REF!","v":{"$error":"#REF!"}},null,null,null,null,"FONDO ZOFEMAT (REMANENTE)",null,0,"PARTICIPACIONES (CONVENIOS)"]
[null,null,"Bienes inmuebles",0,null,null,null,null,"FONDO DE HIDROCARBUROS MARITIMOS(REMANENTE)",null,0,"PARTICIPACIONES (CONVENIOS)"]
["1.2.3.1",null,"Terrenos",null,null,null,null,null,null,null,{"$f":"SUM(K34:K39)","v":229737778.03999996}]
["1.2.3.2",null,"Viviendas"]
["1.2.3.3",null,"Edificios no Habitacionales"]
["1.2.3.4",null,"Infraestructura"]
["1.2.3.9",null,"Otros Bienes Inmuebles"]
[]
["1.2.5",null,"Activos intangibles",0]
[null,null,"Obra pública en bienes propios",0]
["1.2.3.5",null,"Construcciones en Proceso en Bienes de Dominio Público",{"$f":"+#REF!","v":{"$error":"#REF!"}}]
["1.2.3.6",null,"Construcciones en Proceso en Bienes Propios",{"$f":"+#REF!","v":{"$error":"#REF!"}}]
["1.2.1.4",null,"Acciones y participaciones de capital",0]
[null,null,"Compra de títulos y valores",0]
[null,null,"Inversiones en fideicomisos, mandatos y otros análogos",{"$f":"+#REF!","v":{"$error":"#REF!"}}]
[null,null,"Provisiones para contingencias y otras erogaciones especiales",0]
["5.5.2.2",null,"Provisiones de Pasivos a Largo Plazo"]
[null,null,"Amortización de la deuda publica",0]
["2.1.3",null,"Porción a Corto Plazo de la Deuda Pública a Largo Plazo",{"$f":"+'[2]ANALISIS EGR'!$H$75","v":12798086.310000001}]
["2.2.3",null,"Deuda Pública a Largo Plazo"]
[null,null,"Adeudos de ejercicios fiscales anteriores (ADEFAS)",{"$f":"+'[2]ANALISIS EGR'!$H$81","v":0}]
[null,null,"Otros Egresos Presupuestales No Contables",0]
[]
[]
[null,"3. Más gastos contables no presupuestales",null,null,{"$f":"SUM(D63:D69)","v":{"$error":"#REF!"}}]
["5.5.1",null,"Estimaciones, depreciaciones, deterioros, obsolescencia y amortizaciones",{"$f":"+#REF!","v":{"$error":"#REF!"}}]
["5.5.2",null,"Provisiones",{"$f":"+#REF!","v":{"$error":"#REF!"}}]
["5.5.3",null,"Disminución de Inventarios",{"$f":"+#REF!","v":{"$error":"#REF!"}}]
["5.5.4",null,"Aumento por insuficiencia de estimaciones por pérdida o deterioro u obsolescencia",{"$f":"+#REF!","v":{"$error":"#REF!"}}]
["5.5.5",null,"Aumento por insuficiencia de provisiones",{"$f":"+#REF!","v":{"$error":"#REF!"}}]
["5.5.9",null,"Otros Gastos",{"$f":"+#REF!","v":{"$error":"#REF!"}}]
[null,null,"Otros Gastos Contables No Presupuestales",{"$f":"+#REF!","v":{"$error":"#REF!"}}]
[]
[null,null,null,null,null,null,"COMPROBACIÓN","DIFERENCIA"]
[null,"4. Total de Gasto Contable (4 = 1 - 2 + 3)",null,null,{"$f":"+E27-E29+E62","v":{"$error":"#REF!"}},null,253069190.67000002,{"$f":"+E72-G72","v":{"$error":"#REF!"}}]

{"sheet":"LDF AIDOP","index":2,"n_rows":29,"n_cols":9,"rows_kept":29,"cut":false,"hidden":false,"merged":[[0,1,0,8],[2,1,2,8],[3,1,3,8],[4,1,4,8],[1,1,1,8]]}
[null,"FORMATO 2 INFORME ANALÍTICO DE LA DEUDA PÚBLICA Y OTROS PASIVOS - LDF"]
[null,"H. Ayuntamiento del Municipio de Veracruz, Ver."]
[null,"Informe Analitico de la Deuda pública y Otros Pasivos - LDF"]
[null,"Del 1 de enero al 30 de septiembre de 2023"]
[null,"(PESOS)"]
[null,"Denominación de Deuda Pública y Otros Pasivos","Saldo al 31 de diciembre de 2022","Disposiciones del Periodo","Amortizaciones del Periodo","Revaluaciones, Reclasificaciones y Otros Ajustes","Saldo Final del Periodo","Pago de intereses del Periodo","Pago de comisiones y demás costos asociados al periodo"]
["2.1.3","1. Deuda Pública",150006184.05000001,0,0,-3258076.8100000005,146748107.24000001,5773267.4800000004,700132.41]
[null,"  A. Corto Plazo",0,0,0,0,0,0,0]
["2.1.3","    a1)Instituciones de Crédito",0,0,0,0,0,0,0]
["2.1.4","    a2)Titulos y Valores",0,0,0,0,0,0,0]
[null,"    a3)Arrendamientos Financieros",0,0,0,0,0,0,0]
[]
["2.2.3","  B)Largo Plazo",150006184.05000001,0,0,-3258076.8100000005,146748107.24000001,5773267.4800000004,700132.41]
["2.2.3.3","    b1)Instituciones de Crédito",0,0,0,0,0,0,0]
["2.2.3","    b2)Titulos y Valores",150006184.05000001,0,0,-3258076.8100000005,146748107.24000001,5773267.4800000004,700132.41]
[null,"    b3)Arrendamientos Financieros",0,0,0,0,0,0,0]
[]
[null,"2. Otros Pasivos",31139769.500000998,null,null,null,111967890.49999629]
[null,"3. Total de la Deuda Pública y Otros Pasivos",181145953.55000103,0,0,-3258076.8100000005,258715997.73999631,5773267.4800000004,700132.41]
[]
[null,"4. Deuda Contingente (informativo)",0,0,0,0,0,0,0]
[null,"  A. Deuda Contingente",0,0,0,0,0,0,0]
[]
[null,"5. Valor de Instrumentos Bono de Cupon Cero ",0,0,0,0,0,0,0]
[null,"  A. Instrumento Bono Cupon Cero ",0,0,0,0,0,0,0]
[]
[null,"Obligaciones a corto Plazo ","Monto Contratado ","Plazo Pactado ","Tasa de Interes","Comisiones y Costos Relacionados ","Tasa Efectiva"]
[null,"6. Obligaciones a Corto Plazo "]
[null,"Bajo protesta de decir verdad declaramos que la información es razonablemente correcta y responsabilidad del emisor"]